BEGIN:VCALENDAR
VERSION:2.0
PRODID:-//Liburuak - ECPv6.15.18//NONSGML v1.0//EN
CALSCALE:GREGORIAN
METHOD:PUBLISH
X-ORIGINAL-URL:https://liburuak.org
X-WR-CALDESC:Eventos para Liburuak
REFRESH-INTERVAL;VALUE=DURATION:PT1H
X-Robots-Tag:noindex
X-PUBLISHED-TTL:PT1H
BEGIN:VTIMEZONE
TZID:Europe/Madrid
BEGIN:DAYLIGHT
TZOFFSETFROM:+0100
TZOFFSETTO:+0200
TZNAME:CEST
DTSTART:20250330T010000
END:DAYLIGHT
BEGIN:STANDARD
TZOFFSETFROM:+0200
TZOFFSETTO:+0100
TZNAME:CET
DTSTART:20251026T010000
END:STANDARD
BEGIN:DAYLIGHT
TZOFFSETFROM:+0100
TZOFFSETTO:+0200
TZNAME:CEST
DTSTART:20260329T010000
END:DAYLIGHT
BEGIN:STANDARD
TZOFFSETFROM:+0200
TZOFFSETTO:+0100
TZNAME:CET
DTSTART:20261025T010000
END:STANDARD
BEGIN:DAYLIGHT
TZOFFSETFROM:+0100
TZOFFSETTO:+0200
TZNAME:CEST
DTSTART:20270328T010000
END:DAYLIGHT
BEGIN:STANDARD
TZOFFSETFROM:+0200
TZOFFSETTO:+0100
TZNAME:CET
DTSTART:20271031T010000
END:STANDARD
END:VTIMEZONE
BEGIN:VTIMEZONE
TZID:America/Mexico_City
BEGIN:STANDARD
TZOFFSETFROM:-0600
TZOFFSETTO:-0600
TZNAME:CST
DTSTART:20250101T000000
END:STANDARD
END:VTIMEZONE
BEGIN:VEVENT
DTSTART;TZID=Europe/Madrid:20260227T190000
DTEND;TZID=Europe/Madrid:20260301T200000
DTSTAMP:20260425T171958
CREATED:20251203T093554Z
LAST-MODIFIED:20260203T083813Z
UID:5012-1772218800-1772395200@liburuak.org
SUMMARY:Liburuak en BOOK MUSIC FESTIVAL BARCELONA
DESCRIPTION:Del viernes 27 de febrero al 1 de marzo de 2026\, diferentes espacios públicos y privados de Barcelona tejerán puentes entre la música y la literatura con la 2ª Feria de Literatura Musical especializada del país. \nPodréis visitar el stand de Liburuak en el Casinet d’Hostafrancs que se llenará de pilas de libros con la Feria del Libro Musical Nuevo y Usado. Su programa se desplegará también en el Cinema Zumzeig\, la Biblioteca Vapor Vell y el Centre Cultural Albareda y en breve anunciaremos la presentación de uno de nuestros libros en la que contaremos con la presencia de su autor y un invitado muy especial. !Estad atentos! \nDel 27 de febrero al 1 de marzo de 2026\nCasinet d’Hostafrancs\nRector Triadó\, 53\n08014 Barcelona
URL:https://liburuak.org/evento/liburuak-en-book-music-festival-barcelona-2025/
LOCATION:Casinet d’Hostafrancs\, Rector Triadó\, 53\, Barcelona\, 08014
ATTACH;FMTTYPE=image/png:https://liburuak.org/wp-content/uploads/2025/01/liburuak_eventos_book_music_festival.png
END:VEVENT
BEGIN:VEVENT
DTSTART;TZID=Europe/Madrid:20260325T213000
DTEND;TZID=Europe/Madrid:20260325T213000
DTSTAMP:20260425T171958
CREATED:20260312T180113Z
LAST-MODIFIED:20260312T180341Z
UID:5676-1774474200-1774474200@liburuak.org
SUMMARY:Kid Congo\, Firma de Libros ZARAGOZA
DESCRIPTION:Firma de libros tras su concierto en la LATA DE BOMBILLAS\nEl próximo miércoles 25 de marzo el legendario Kid Congo Powers\, estará tocando junto a su banda Kid Congo and The Pink Monkey Birds en la LATA DE BOMBILLAS (Calle Espoz y Mina\, 19) y tras su concierto firmará la segunda edición de su libro “Ese vicio delicioso”. \nMiércoles 25 de marzo\n20:30\nLA LATA DE BOMBILLAS\nCalle Espoz y Mina\, 19\, ZARAGOZA \n 
URL:https://liburuak.org/evento/kid-congo-firma-de-libros-zaragoza/
LOCATION:LA LATA DE BOMBILLAS\, Calle Espoz y Mina\, 19\, Zaragoza
ATTACH;FMTTYPE=image/png:https://liburuak.org/wp-content/uploads/2024/02/liburuak-ese-vicio-delicioso-2.png
END:VEVENT
BEGIN:VEVENT
DTSTART;TZID=Europe/Madrid:20260326T213000
DTEND;TZID=Europe/Madrid:20260326T223000
DTSTAMP:20260425T171958
CREATED:20260312T180610Z
LAST-MODIFIED:20260312T180610Z
UID:5679-1774560600-1774564200@liburuak.org
SUMMARY:Kid Congo\, Firma de Libros MADRID
DESCRIPTION:Firma de libros tras su concierto en el Canopy\nEl próximo jueves 26 de marzo el legendario Kid Congo Powers\, estará tocando junto a su banda Kid Congo and The Pink Monkey Birds en CANOPY (Plaza Carlos Trías Bertrán 4) y tras su concierto firmará la segunda edición de su libro “Ese vicio delicioso”. \nJueves 26 de marzo\n21:30\nESPACIO ESCÁNDALO\nCanopy by Hilton Castellana\nPlaza Carlos Trías Bertrán 4\, MADRID \n 
URL:https://liburuak.org/evento/kid-congo-firma-de-libros-madrid-2/
LOCATION:Espacio Escandalo\, Canopy by Hilton Castellana. Plaza Carlos Trías Bertrán 4\, Madrid
ATTACH;FMTTYPE=image/png:https://liburuak.org/wp-content/uploads/2024/02/liburuak-ese-vicio-delicioso-2.png
END:VEVENT
BEGIN:VEVENT
DTSTART;TZID=Europe/Madrid:20260327T223000
DTEND;TZID=Europe/Madrid:20260327T233000
DTSTAMP:20260425T171958
CREATED:20260312T180756Z
LAST-MODIFIED:20260312T180756Z
UID:5682-1774650600-1774654200@liburuak.org
SUMMARY:Kid Congo\, Firma de Libros VALENCIA
DESCRIPTION:Firma de libros tras su concierto en 16 TONELADAS.\nEl próximo viernes 27 de marzo el legendario Kid Congo Powers\, estará tocando junto a su banda Kid Congo and The Pink Monkey Birds en el 16 TONELADAS (Calle Ricardo Micó\, 3) y tras su concierto firmará la segunda edición de su libro “Ese vicio delicioso”. \nViernes 27 de marzo\n22:30\n16 TONELADAS\nCalle Ricardo Micó\, 3. VALENCIA \n 
URL:https://liburuak.org/evento/kid-congo-firma-de-libros-valencia/
LOCATION:16 TONELADAS\, Calle Ricardo Micó\, 3\, Valencia
ATTACH;FMTTYPE=image/png:https://liburuak.org/wp-content/uploads/2024/02/liburuak-ese-vicio-delicioso-2.png
END:VEVENT
BEGIN:VEVENT
DTSTART;TZID=Europe/Madrid:20260328T223000
DTEND;TZID=Europe/Madrid:20260328T233000
DTSTAMP:20260425T171958
CREATED:20260312T180959Z
LAST-MODIFIED:20260325T142735Z
UID:5685-1774737000-1774740600@liburuak.org
SUMMARY:Kid Congo\, Firma de Libros  BIARRITZ
DESCRIPTION:Firma de libros tras su concierto en ATABAL.\nEl próximo sábado 28 de marzo el legendario Kid Congo Powers\, estará tocando junto a su banda Kid Congo and The Pink Monkey Birds en ATABAL (37 Allée du Moura) y tras su concierto firmará la segunda edición de su libro “Ese vicio delicioso”. \nSábado 28 de marzo\n20:30\nATABAL\n37 Allée du Moura 64200 BIARRITZ\, Francia \n 
URL:https://liburuak.org/evento/kid-congo-firma-de-libros-biarritz/
LOCATION:ATABAL\, 37 Allée du Moura\, Biarritz\, 64200
ATTACH;FMTTYPE=image/png:https://liburuak.org/wp-content/uploads/2024/02/liburuak-ese-vicio-delicioso-2.png
END:VEVENT
BEGIN:VEVENT
DTSTART;TZID=Europe/Madrid:20260409T193000
DTEND;TZID=Europe/Madrid:20260409T203000
DTSTAMP:20260425T171958
CREATED:20260302T171731Z
LAST-MODIFIED:20260302T171816Z
UID:5609-1775763000-1775766600@liburuak.org
SUMMARY:PRESENTACIÓN Canción de amor de un día (CADUD)\, BILBAO
DESCRIPTION:El próximo jueves 9 de abril en la librería ANTI de Bilbao\, Javier Corcobado presentará su esperado libro\, Canción de amor de un día (CADUD). Le acompañará en la charla el realizador Álvaro Fierro. Y… ¡más sorpresas! \nCADUD trasciende el formato tradicional para convertirse en una experiencia sensorial única. Esta edición limitada\, de la cual solo existen 500 ejemplares numerados\, narra un día en la vida del autor a través de la literatura y la música. El libro se acompaña de un pendrive que alberga un hito creativo: la primera canción en la historia con una duración de 24 horas. \nUn proyecto monumental que cuenta con la complicidad de artistas de la talla de Amaral\, Nacho Vegas\, Alaska y Andrés Calamaro\, entre otros. \nEntrada gratuita hasta completar aforo. \n¡No te quedes sin tu ejemplar numerado y firmado por Corcobado! \n  \nJueves 9 de abril\nLibrería ANTI\nCalle Dos de Mayo\, 2\n48003 Bilbao\n¡Habrá sorpresas!
URL:https://liburuak.org/evento/presentacion-cancion-de-amor-de-un-dia-cadud-bilbao/
LOCATION:Anti Liburudenda\, Calle Dos de Mayo\, 2\, Bilbao\, Bizkaia\, 48003
ATTACH;FMTTYPE=image/png:https://liburuak.org/wp-content/uploads/2026/01/liburuak-corcobado-cadud_Mesa-de-trabajo-1-copia-2.png
END:VEVENT
BEGIN:VEVENT
DTSTART;TZID=Europe/Madrid:20260425T130000
DTEND;TZID=Europe/Madrid:20260425T140000
DTSTAMP:20260425T171958
CREATED:20260424T171812Z
LAST-MODIFIED:20260424T171812Z
UID:5987-1777122000-1777125600@liburuak.org
SUMMARY:Evento con Miguel Marcos autor de 'Viaje hacia la canción perfecta' dentro de LIBROMAD\, MADRID
DESCRIPTION:El próximo sábado 25 de abril a las 13:00 h\, la librería Perros de Lluvia (Lavapiés) se convierte en el escenario de «Mitología Pop»\, una propuesta única dentro de la programación de la semana LIBROMAD. El evento combinará una charla literaria con el directo de Miguel Marcos y su banda\, Nueva Tragedia\, ofreciendo un recorrido que une música y letras en un formato de concierto y coloquio. \nLibrería Perros de Lluvia\nCalle Sombrerería 1\, Lavapiés\n28012 Madrid \nEntrada libre hasta completar aforo
URL:https://liburuak.org/evento/evento-con-miguel-marcos-autor-de-viaje-hacia-la-cancion-perfecta-dentro-de-libromad-madrid/
LOCATION:Perros de Lluvia\, Sombrerería\, 1 · Lavapiés\, Madrid\, 28012
ATTACH;FMTTYPE=image/png:https://liburuak.org/wp-content/uploads/2025/09/liburuak-evento-viaje-hacia-cancion-perfecta.png
END:VEVENT
BEGIN:VEVENT
DTSTART;TZID=America/Mexico_City:20260428T180000
DTEND;TZID=America/Mexico_City:20260428T200000
DTSTAMP:20260425T171958
CREATED:20260330T092202Z
LAST-MODIFIED:20260410T094438Z
UID:5812-1777399200-1777406400@liburuak.org
SUMMARY:PRESENTACIÓN La Música Prohibida\, CDMX
DESCRIPTION:El escritor y músico español Javier Pérez Corcobado llega a la Librería Mauricio Achar (Gandhi Miguel Ángel de Quevedo) para conversar sobre La Música Prohibida de la editorial Liburuak: aquellas canciones\, voces e historias que la censura y la moral dominante han querido silenciar. A partir de su trayectoria como figura clave de la contracultura iberoamericana\, Corcobado hablará de sus libros\, de sus discos y de las pasiones que los atraviesan. Durante la sesión habrá charla\, lectura de textos y espacio para preguntas del público. Al finalizar\, Javier firmará ejemplares y se podrán adquirir libros y materiales relacionados. \nMartes 28 de abril\nLibrería Mauricio Achar en\nMiguel Ángel de Quevedo 121 CDMX\,\n01050 México \n 
URL:https://liburuak.org/evento/presentacion-la-musica-prohibida-cdmx/
LOCATION:Librería Mauricio Achar\, Miguel Ángel de Quevedo 121 CDMX\, Ciudad de Mexico\, 01050
ATTACH;FMTTYPE=image/png:https://liburuak.org/wp-content/uploads/2026/03/evento-la-musica-prohibida.png
END:VEVENT
BEGIN:VEVENT
DTSTART;TZID=Europe/Madrid:20260428T200000
DTEND;TZID=Europe/Madrid:20260428T220000
DTSTAMP:20260425T171958
CREATED:20260415T025058Z
LAST-MODIFIED:20260415T025136Z
UID:5877-1777406400-1777413600@liburuak.org
SUMMARY:Firma de autógrafos y convivencia en Bizarro Café Roma  con Javier Corcobado (CADUD)\, CDMX
DESCRIPTION:En el marco de su visita a Ciudad de México\, Javier Corcobado sostendrá un encuentro especial con su público el próximo 28 de abril en Bizarro Café Roma\, en una velada dedicada a la cercanía\, la palabra y el intercambio con sus seguidores. La jornada incluirá firma de autógrafos y convivencia\, así como la entrega de ejemplares de CADUD (libro + pendrive) para quienes adquirieron esta edición especial. También estará disponible mercancía oficial conmemorativa del 40° aniversario\, además de ejemplares de La Música Prohibida. \n28 de abril · 20:00\nBizarro Café Roma. \nAv. Yucatán 10\, Roma Norte\, Cuauhtémoc\nCiudad de México
URL:https://liburuak.org/evento/firma-de-autografos-y-convivencia-en-bizarro-cafe-roma-con-javier-corcobado-cadud-cdmx/
LOCATION:Bizarro Café Roma.\, Av. Yucatán 10\, Roma Norte\, Cuauhtémoc\, Ciudad de México\, Mexico
ATTACH;FMTTYPE=image/png:https://liburuak.org/wp-content/uploads/2026/01/liburuak-corcobado-cadud_Mesa-de-trabajo-1-copia-2.png
END:VEVENT
BEGIN:VEVENT
DTSTART;VALUE=DATE:20260529
DTEND;VALUE=DATE:20260615
DTSTAMP:20260425T171958
CREATED:20260325T153736Z
LAST-MODIFIED:20260325T153736Z
UID:5787-1780012800-1781481599@liburuak.org
SUMMARY:Liburuak en la Feria del Libro de Madrid 2026
DESCRIPTION:Este año\, nuestra editorial Liburuak estará presente en la Zona Archipiélago de la feria.\nDescubre todas nuestras novedades\, presentaciones y firmas de libros\, que anunciaremos próximamente. \nVen a visitarnos a:Caseta 421 | Bloque 23C\n \nHorario de apertura:Lunes a viernes: 10:30–14:00 y 17:00–21:00Sábados y domingos: 10:30–15:00 y 17:00–21:00 \n¡Nos vemos en Madrid! \n  \n 
URL:https://liburuak.org/evento/liburuak-en-la-feria-del-libro-de-madrid-2026/
LOCATION:Feria del Libro de Madrid
ATTACH;FMTTYPE=image/png:https://liburuak.org/wp-content/uploads/2025/05/feria-libro-madrid-1_Mesa-de-trabajo-1.png
END:VEVENT
BEGIN:VEVENT
DTSTART;TZID=Europe/Madrid:20260607T130000
DTEND;TZID=Europe/Madrid:20260607T140000
DTSTAMP:20260425T171958
CREATED:20260424T172704Z
LAST-MODIFIED:20260424T173315Z
UID:5991-1780837200-1780840800@liburuak.org
SUMMARY:Presentación de ‘Spandex' de Joaquín Rodríguez en la Feria del Libro\, MADRID
DESCRIPTION:El próximo domingo 7 de junio a las 13:00 h\, la Feria del Libro de Madrid —que este año tiene el humor como eje central— presenta «Spandex» en el Salón de actos de la Biblioteca Eugenio Trías (El Retiro). Su autor\, Joaquín Rodríguez (Los Nikis)\, estará acompañado por José Luis Moro (Un pingüino en mi ascensor) para desgranar esta novela delirante que arranca con el auge del hair metal en los 80. Entre anuncios de laca\, visitas a casa de Raphael y torreznos\, la charla promete ser tan divertida como la propia trama: una historia de venganza y perdedores entrañables con el sello inconfundible del humor más gamberro de nuestra música. \nSalón de actos Biblioteca Eugenio Trías\nP.º de Fernán Núñez\, 24\, Retiro\n28009 Madrid \nEntrada libre hasta completar aforo
URL:https://liburuak.org/evento/presentacion-de-spandex-de-joaquin-rodriguez-en-la-feria-del-libro-madrid/
LOCATION:Salón de actos Biblioteca Eugenio Trías\, P.º de Fernán Núñez\, 24\, Retiro\, Madrid\, 28009
ATTACH;FMTTYPE=image/png:https://liburuak.org/wp-content/uploads/2026/04/spandex-eventos-liburuak.png
END:VEVENT
BEGIN:VEVENT
DTSTART;TZID=Europe/Madrid:20260607T190000
DTEND;TZID=Europe/Madrid:20260607T200000
DTSTAMP:20260425T171958
CREATED:20260424T173022Z
LAST-MODIFIED:20260424T174118Z
UID:5994-1780858800-1780862400@liburuak.org
SUMMARY:Venta de libros y firma de ‘CADUD’ tras el concierto de Javier Corcobado en el Kafe Antzokia\, BILBAO
DESCRIPTION:Tras el directo\, se pondrán a la venta ejemplares de «Canción de amor de un día» (CADUD) de edición limitada y numerada y el autor firmará libros a los asistentes. \nCADUD es una obra sin precedentes: una composición de 24 horas de duración oculta en un libro de edición de lujo limitada a 500 ejemplares. Javier Corcobado ha logrado unir a artistas como Bunbury\, Amaral\, Vetusta Morla o Calamaro en una pieza de 100 movimientos diseñada para ser la banda sonora de un día completo de vida. Un objeto de arte vanguardista que rompe todos los límites de la industria musical. \nKafe Antzokia \nCalle San Vicente\, 2 \n48001 Bilbao
URL:https://liburuak.org/evento/venta-de-libros-y-firma-de-cadud-tras-el-concierto-de-javier-corcobado-en-el-kafe-antzokia-bilbao/
LOCATION:Kafe Antzokia\, Calle San Vicente\, 2\, Bilbao\, 48001
ATTACH;FMTTYPE=image/png:https://liburuak.org/wp-content/uploads/2026/01/liburuak-corcobado-cadud_Mesa-de-trabajo-1-copia-2.png
END:VEVENT
END:VCALENDAR