BEGIN:VCALENDAR
VERSION:2.0
PRODID:-//Liburuak - ECPv6.15.18//NONSGML v1.0//EN
CALSCALE:GREGORIAN
METHOD:PUBLISH
X-ORIGINAL-URL:https://liburuak.org
X-WR-CALDESC:Eventos para Liburuak
REFRESH-INTERVAL;VALUE=DURATION:PT1H
X-Robots-Tag:noindex
X-PUBLISHED-TTL:PT1H
BEGIN:VTIMEZONE
TZID:America/Bogota
BEGIN:STANDARD
TZOFFSETFROM:-0500
TZOFFSETTO:-0500
TZNAME:-05
DTSTART:20240101T000000
END:STANDARD
END:VTIMEZONE
BEGIN:VTIMEZONE
TZID:Europe/Madrid
BEGIN:DAYLIGHT
TZOFFSETFROM:+0100
TZOFFSETTO:+0200
TZNAME:CEST
DTSTART:20240331T010000
END:DAYLIGHT
BEGIN:STANDARD
TZOFFSETFROM:+0200
TZOFFSETTO:+0100
TZNAME:CET
DTSTART:20241027T010000
END:STANDARD
BEGIN:DAYLIGHT
TZOFFSETFROM:+0100
TZOFFSETTO:+0200
TZNAME:CEST
DTSTART:20250330T010000
END:DAYLIGHT
BEGIN:STANDARD
TZOFFSETFROM:+0200
TZOFFSETTO:+0100
TZNAME:CET
DTSTART:20251026T010000
END:STANDARD
BEGIN:DAYLIGHT
TZOFFSETFROM:+0100
TZOFFSETTO:+0200
TZNAME:CEST
DTSTART:20260329T010000
END:DAYLIGHT
BEGIN:STANDARD
TZOFFSETFROM:+0200
TZOFFSETTO:+0100
TZNAME:CET
DTSTART:20261025T010000
END:STANDARD
END:VTIMEZONE
BEGIN:VEVENT
DTSTART;TZID=America/Bogota:20250523T090000
DTEND;TZID=America/Bogota:20250601T210000
DTSTAMP:20260426T041824
CREATED:20250526T121238Z
LAST-MODIFIED:20250526T122917Z
UID:4076-1747990800-1748811600@liburuak.org
SUMMARY:Liburuak en la Feria de la Frontera\, FELIF 2025
DESCRIPTION:Nos vemos en FELIF 2025.\nPrepárate para una semana de pláticas\, música y literatura bajo el eje temático: «Retrofuturismos; La ciudad y los libros»\, un puente entre memoria e imaginación para reflexionar sobre el quehacer cultural del norte del país desde una mirada fronteriza.\nLiburuak estará presente en la feria a través de SP Distribuciones.\nPróximas fechas de firmas de libros y eventos con nuestros autores en Feria de la Frontera. \n· Kid Congo – Ese vicio delicioso\nKid Congo\, Sofia Carbajal y Antonio RubioViernes 30 de mayo | 17:00\nCineteca \n· Alice Bag– Violence Girl\nAlice Bag\, Guillotina Hernández y Ángel DávilaViernes 30 de mayo |  18:00–19:00\nCineteca \n· Noches con la literatura: Concierto de punk alternativo con Juanita y Juan Alice Bag y Kid Congo\nViernes 31 de mayo |  22:00\nTeatro Victor Hugo Rascón Banda
URL:https://liburuak.org/evento/liburuak-en-la-feria-de-la-frontera-felif-2025/
LOCATION:Feria de la Frontera
ATTACH;FMTTYPE=image/png:https://liburuak.org/wp-content/uploads/2025/05/eventos-2025_Mesa-de-trabajo-1-copia-3.png
END:VEVENT
BEGIN:VEVENT
DTSTART;VALUE=DATE:20250530
DTEND;VALUE=DATE:20250616
DTSTAMP:20260426T041824
CREATED:20250519T142341Z
LAST-MODIFIED:20250527T182628Z
UID:4031-1748563200-1750031999@liburuak.org
SUMMARY:Liburuak en la Feria del Libro de Madrid 2025
DESCRIPTION:Este año\, nuestra editorial Liburuak estará presente en la Zona Central de la feria\, un espacio reservado para editoriales independientes.  (Zona mar de ideas).\nDescubre todas nuestras novedades\, presentaciones y firmas de libros. \nVen a visitarnos a:Caseta 393 | Bloque 28C \nHorario de apertura:Lunes a viernes: 10:30–14:00 y 17:00–21:00Sábados y domingos: 10:30–15:00 y 17:00–21:00 \nFirmas de libros\n \n· Holden Centeno – Los CometasSábado 31 de mayo | 12:00–13:00 \n· Pedro Learreta – A Day in the LifeDomingo 1 de junio |  12:00–13:00 \n· Luis Boullosa – Diez maneras de amar a Lana del Rey\n Sábado 7 de junio | 12:00–13:00 \n· Bruno Galindo – KokotxasDomingo 8 de junio | 11:00–12:00 \n· Holden Centeno – Los CometasDomingo 15 de junio | 12:00–13:00 \n¡Nos vemos en Madrid! \n  \n 
URL:https://liburuak.org/evento/feria-del-libro-madrid-2025/
LOCATION:Feria del Libro de Madrid
ATTACH;FMTTYPE=image/png:https://liburuak.org/wp-content/uploads/2025/05/feria-libro-madrid-1_Mesa-de-trabajo-1.png
END:VEVENT
BEGIN:VEVENT
DTSTART;TZID=Europe/Madrid:20250606T193000
DTEND;TZID=Europe/Madrid:20250606T203000
DTSTAMP:20260426T041824
CREATED:20250604T230653Z
LAST-MODIFIED:20250605T084105Z
UID:4157-1749238200-1749241800@liburuak.org
SUMMARY:"PUTO BOOMER" Presentación y firma de libros\, OTSAGABIA
DESCRIPTION:En el marco de las actividades previas al Festival de Música del Pirineo Udaherri\, el escritor y músico Roberto Moso presentará su libro «Puto Boomer»\, una obra que nos invita a reflexionar sobre generaciones\, cambios sociales y la identidad en el mundo actual. \nEl evento contará con la participación de Sergio de Andrés\, uno de los organizadores del festival\, actor y músico\, quien será el encargado de conducir la presentación y generar un diálogo dinámico con el autor y el público asistente. \nUna oportunidad única para acercarse a la mirada crítica y a la ironía de Moso en un ambiente cercano y enriquecedor. \n¡Te esperamos para compartir literatura\, música y conversación en este encuentro especial! \nDespués de la presentación el autor estará firmando su libro. \nViernes 6 de junio a las 19:30 en Casa Koleto\nBo. Labaria\, 10\, 31680 Otsagabia\nEntrada: gratuita hasta completar aforo.
URL:https://liburuak.org/evento/puto-boomer-presentacion-y-firma-de-libros-otsagabia/
LOCATION:Casa Koleto\, Bo. Labaria\, 10\, Otsagabia\, 31680
END:VEVENT
BEGIN:VEVENT
DTSTART;TZID=Europe/Madrid:20250624T123000
DTEND;TZID=Europe/Madrid:20250624T140000
DTSTAMP:20260426T041824
CREATED:20250617T094650Z
LAST-MODIFIED:20250617T111511Z
UID:4175-1750768200-1750773600@liburuak.org
SUMMARY:"Nodos Germinales" BOOK TOUR\, MADRID
DESCRIPTION:NODOS GERMINALES. Espacios alternativos de arte en los años noventa\, Bizkaia/Gipuzkoa/Araba” Nekane Aramburu. Presentación y firma de libros MADRID.\n24 junio / 12:30-13:30\n \nNekane Aramburu\, gestora cultural\, comisaria independiente e investigadora con una destacada trayectoria en la promoción del arte contemporáneo y el pensamiento crítico\, estará presentando su nueva publicación\, «Nodos Germinales»\, en el Salón de Juntas del Círculo de Bellas Artes de Madrid. La presentación contará con la participación de Carlos T. Mori\, artista\, comisario de exposiciones y teórico especialista en arte contemporáneo y vídeo arte.\n\nNodos Germinales revela la efervescente escena de espacios de arte alternativos que emergieron en el País Vasco durante los años 90. \nBasándose en una exhaustiva investigación\, Nekane Aramburu revela cómo estos espacios pioneros anticiparon modelos de gestión participativa\, impulsaron la mediación educativa e introdujeron prácticas artísticas experimentales\, desafiando la narrativa dominante del arte español de la época y tejiendo redes transnacionales significativas. \nEste libro profundiza en la vitalidad de unos modelos culturales que marcaron un antes y un después en la forma de entender y difundir las artes visuales en el País Vasco. Aramburu rescata del olvido la energía y la visión de unos espacios que se adelantaron a su tiempo\, explorando sus precedentes históricos y analizando su impacto en el panorama artístico actual\, como agentes clave en la introducción de nuevas prácticas y en la conexión de la escena local con circuitos internacionales\, ofreciendo una perspectiva renovada sobre una década crucial para el arte vasco. \n\n \n\nMartes\, 24 de junio 12:30 – 13:30\nSala de Juntas\nCírculo de Bellas Artes\nCalle Alcalá 42\n28014 Madrid
URL:https://liburuak.org/evento/nodos-germinales-book-tour-madrid/
LOCATION:Circulo de Bellas Artes\, Calle Alcalá\, 42\, Madrid
END:VEVENT
BEGIN:VEVENT
DTSTART;TZID=Europe/Madrid:20250626T190000
DTEND;TZID=Europe/Madrid:20250626T210000
DTSTAMP:20260426T041824
CREATED:20250617T095215Z
LAST-MODIFIED:20250617T111716Z
UID:4180-1750964400-1750971600@liburuak.org
SUMMARY:"Nodos Germinales" BOOK TOUR\, BARCELONA
DESCRIPTION:«NODOS GERMINALES. Espacios alternativos de arte en los años noventa\, Bizkaia/Gipuzkoa/Araba” Nekane Aramburu. Presentación y firma de libros BARCELONA.\n26 junio / 19:00-20:30. Se servirán bebidas a los asistentes.\n \nNekane Aramburu\, gestora cultural\, comisaria independiente e investigadora con una destacada trayectoria en la promoción del arte contemporáneo y el pensamiento crítico\, estará presentando su nueva publicación\, «Nodos Germinales»\, en la librería La Caníbal de Barcelona. La presentación contará con la participación de Jorge Luis Marzo\, Doctor. Historiador del arte\, profesor\, investigador\, realizador audiovisual\, escritor y comisario de exposiciones.\n\nNodos Germinales revela la efervescente escena de espacios de arte alternativos que emergieron en el País Vasco durante los años 90. \nBasándose en una exhaustiva investigación\, Nekane Aramburu revela cómo estos espacios pioneros anticiparon modelos de gestión participativa\, impulsaron la mediación educativa e introdujeron prácticas artísticas experimentales\, desafiando la narrativa dominante del arte español de la época y tejiendo redes transnacionales significativas. \nEste libro profundiza en la vitalidad de unos modelos culturales que marcaron un antes y un después en la forma de entender y difundir las artes visuales en el País Vasco. Aramburu rescata del olvido la energía y la visión de unos espacios que se adelantaron a su tiempo\, explorando sus precedentes históricos y analizando su impacto en el panorama artístico actual\, como agentes clave en la introducción de nuevas prácticas y en la conexión de la escena local con circuitos internacionales\, ofreciendo una perspectiva renovada sobre una década crucial para el arte vasco. \nJueves\, 26 de junio 19:00 – 20:30\nLibrería La Caníbal\nCarrer Nàpols\, 314\n08025 Barcelona
URL:https://liburuak.org/evento/nodos-germinales-book-tour-barcelona/
LOCATION:Libreria La Canibal\, C. Nàpols\, 314\, Barcelona
END:VEVENT
END:VCALENDAR