BEGIN:VCALENDAR
VERSION:2.0
PRODID:-//Liburuak - ECPv6.15.18//NONSGML v1.0//EN
CALSCALE:GREGORIAN
METHOD:PUBLISH
X-ORIGINAL-URL:https://liburuak.org
X-WR-CALDESC:Eventos para Liburuak
REFRESH-INTERVAL;VALUE=DURATION:PT1H
X-Robots-Tag:noindex
X-PUBLISHED-TTL:PT1H
BEGIN:VTIMEZONE
TZID:Europe/Madrid
BEGIN:DAYLIGHT
TZOFFSETFROM:+0100
TZOFFSETTO:+0200
TZNAME:CEST
DTSTART:20240331T010000
END:DAYLIGHT
BEGIN:STANDARD
TZOFFSETFROM:+0200
TZOFFSETTO:+0100
TZNAME:CET
DTSTART:20241027T010000
END:STANDARD
BEGIN:DAYLIGHT
TZOFFSETFROM:+0100
TZOFFSETTO:+0200
TZNAME:CEST
DTSTART:20250330T010000
END:DAYLIGHT
BEGIN:STANDARD
TZOFFSETFROM:+0200
TZOFFSETTO:+0100
TZNAME:CET
DTSTART:20251026T010000
END:STANDARD
BEGIN:DAYLIGHT
TZOFFSETFROM:+0100
TZOFFSETTO:+0200
TZNAME:CEST
DTSTART:20260329T010000
END:DAYLIGHT
BEGIN:STANDARD
TZOFFSETFROM:+0200
TZOFFSETTO:+0100
TZNAME:CET
DTSTART:20261025T010000
END:STANDARD
END:VTIMEZONE
BEGIN:VEVENT
DTSTART;TZID=Europe/Madrid:20251001T090000
DTEND;TZID=Europe/Madrid:20251001T110000
DTSTAMP:20260425T224004
CREATED:20250929T060739Z
LAST-MODIFIED:20250929T084129Z
UID:4592-1759309200-1759316400@liburuak.org
SUMMARY:Presentación del libro “De pasión a profesión. Manual de Industria Musical"\, Madrid 
DESCRIPTION:El próximo miércoles 1 de octubre en la sede de la CEOE\, se presentará el Manual de la Industria Musical\, De pasión a profesión\, con la presencia del editor del libro\, Jon Icazuriaga\, y la directora de la editorial Liburuak\, Amaia Santana\, quien será la encargada de presentar el evento. A su lado estará Isabel Villanueva\, directora de BIME\, además de Vanessa Jiménez Serranía colaboradora en el manual.\nUn programa didáctico completo y el primer manual en español que aborda con rigor y profundidad todas las áreas de la industria musical\, ofreciendo una visión transversal y actualizada del sector. \nPara asistir\, es imprescindible inscribirse previamente enviando un correo a: comunicacion@liburuak.org.
URL:https://liburuak.org/evento/presentacion-del-libro-de-pasion-a-profesion-manual-de-industria-musical-madrid/
LOCATION:CEOE\, Diego de León\, 50\, Madrid\, 28006
ATTACH;FMTTYPE=image/png:https://liburuak.org/wp-content/uploads/2025/09/liburuak-de-pasion-a-profesion.png
END:VEVENT
BEGIN:VEVENT
DTSTART;VALUE=DATE:20251003
DTEND;VALUE=DATE:20251004
DTSTAMP:20260425T224004
CREATED:20251016T085940Z
LAST-MODIFIED:20251016T085940Z
UID:4782-1759449600-1759535999@liburuak.org
SUMMARY:"VIAJE HACIA LA CANCIÓN PERFECTA" BOOKTOUR\, Miguel Marcos\, FESTIVAL FLEM MALLORCA
DESCRIPTION:El viernes 3 de octubre\, en el Festival FLEM (Mallorca)\, Miguel Marcos hará la presentación de su libro Viaje hacia la canción perfecta. El evento contará con una charla con Carlos Sadness\, cantautor de referencia en la música pop española\, y Miquel García\, músico y compositor\, y se completará con un intercambio sobre creatividad y canciones. \n  \nViernes 12 de diciembre\, 21:00\nFestival FLEM Mallorca\nHotel INNSiDE by Meliá Calviá Beach\nAvinguda de l’Olivera\, 4\,\n07181 Calvià\,\nIlles Balears
URL:https://liburuak.org/evento/viaje-hacia-la-cancion-perfecta-booktour-miguel-marcos-festival-flem-mallorca/
LOCATION:Festival FLEM Mallorca\, Hotel INNSiDE by Meliá Calviá Beach\, Avinguda de l'Olivera\, 4\, Calvià\, Spain
ATTACH;FMTTYPE=image/png:https://liburuak.org/wp-content/uploads/2025/09/liburuak-evento-viaje-hacia-cancion-perfecta.png
END:VEVENT
BEGIN:VEVENT
DTSTART;TZID=Europe/Madrid:20251007T193000
DTEND;TZID=Europe/Madrid:20251007T220000
DTSTAMP:20260425T224004
CREATED:20250929T061846Z
LAST-MODIFIED:20250929T090139Z
UID:4597-1759865400-1759874400@liburuak.org
SUMMARY:Inauguración de la exposición y presentación del libro "Disparos en la oscuridad"\, Madrid 
DESCRIPTION:El próximo martes 7 de octubre a las 19:30 se presenta «Disparos en la oscuridad” del artista americano David Arnoff y se inaugura la exposición con imágenes en gran formato contenidas en el libro. Contaremos con la presencia del autor que firmará ejemplares. Las fotografías están a la venta.\n\nEl fotógrafo autodidacta y documentalista de la escena punk-rock de Los Ángeles en los años 70 y 80\, capturó con su cámara imágenes impactantes de grupos y músicos emblemáticos como The Cramps\, Ramones\, The Damned\, Buzzcocks\, Blondie o Nick Cave. Una oportunidad única de conocer en persona a un testigo directo de una época legendaria.\n\nLa exposición se podrá visitar hasta el 9 de noviembre.\n\nEntrada libre\n\nExposición «Disparos en la oscuridad»\n12 Botellas \nCalle de Belén\, 7\, 28004 Madrid 
URL:https://liburuak.org/evento/inauguracion-de-la-exposicion-y-presentacion-del-libro-disparos-en-la-oscuridad-madrid/
LOCATION:12 Botellas\, Calle de Belén 7\, Madrid\, 28004
ATTACH;FMTTYPE=image/png:https://liburuak.org/wp-content/uploads/2025/09/DISPAROS_SILLAS.png
END:VEVENT
BEGIN:VEVENT
DTSTART;TZID=Europe/Madrid:20251007T193000
DTEND;TZID=Europe/Madrid:20251109T233000
DTSTAMP:20260425T224004
CREATED:20251007T081451Z
LAST-MODIFIED:20251015T071813Z
UID:4725-1759865400-1762731000@liburuak.org
SUMMARY:Exposición del libro "Disparos en la oscuridad"\, MADRID
DESCRIPTION:La exposición imprescindible para los amantes del punk y el rock. Descubre la obra de David Arnoff\, el documentalista que inmortalizó con su cámara la escena de Los Ángeles en losThe Cramps\, Ramones\, The Damned\, Buzzcocks\, Blondie o Nick Cave\, presentadas en gran formato. Las fotografías\, incluidas en su aclamado libro Disparos en la oscuridad están a la venta en una edición única y firmada por el autor.\nEntrada libre \nExposición «Disparos en la oscuridad»\nDe 18:00 a 3:00 (Lunes cerrado)\n12 Botellas\nCalle de Belén\, 7\, 28004 Madrid 
URL:https://liburuak.org/evento/exposicion-y-presentacion-del-libro-disparos-en-la-oscuridad-madrid/
LOCATION:12 Botellas\, Calle de Belén 7\, Madrid\, 28004
ATTACH;FMTTYPE=image/jpeg:https://liburuak.org/wp-content/uploads/2025/10/thumbnail_cartel_inauguracion-A4-OK-scaled.jpg
END:VEVENT
BEGIN:VEVENT
DTSTART;TZID=Europe/Madrid:20251017T180000
DTEND;TZID=Europe/Madrid:20251017T193000
DTSTAMP:20260425T224004
CREATED:20251016T073031Z
LAST-MODIFIED:20251016T081306Z
UID:4750-1760724000-1760729400@liburuak.org
SUMMARY:"VIAJE HACIA LA CANCIÓN PERFECTA" BOOKTOUR\, Miguel Marcos\, FNAC VIGO
DESCRIPTION:El viernes 17 de octubre\, a las 18:00h\, en FNAC Vigo\, continúa el recorrido del book tour con la presentación del libro Viaje hacia la canción perfecta\, de Miguel Marcos\, quien presentará y firmará ejemplares. \nEl encuentro contará además con una charla con Frans Banfield\, músico y productor argentino afincado en Vigo\, y Juan Rivas\, compositor y cantante gallego con una amplia trayectoria en el pop español. \n  \nViernes 17 de octubre\, 18:00\nFNAC Vigo\nPraza Estación\, nº1\n36201 Vigo\nPontevedra
URL:https://liburuak.org/evento/viaje-hacia-la-cancion-perfecta-booktour-miguel-marcos-fnac-vigo/
LOCATION:Fnac Vigo\, Praza Estación\, nº1\, Vigo
ATTACH;FMTTYPE=image/png:https://liburuak.org/wp-content/uploads/2025/09/liburuak-evento-viaje-hacia-cancion-perfecta.png
END:VEVENT
BEGIN:VEVENT
DTSTART;TZID=Europe/Madrid:20251017T210000
DTEND;TZID=Europe/Madrid:20251017T223000
DTSTAMP:20260425T224004
CREATED:20251016T080347Z
LAST-MODIFIED:20251016T080516Z
UID:4753-1760734800-1760740200@liburuak.org
SUMMARY:"VIAJE HACIA LA CANCIÓN PERFECTA" BOOKTOUR\, Miguel Marcos\, FESTIVAL KEROUAC VIGO
DESCRIPTION:El viernes 17 de octubre\, a las 21:00h\, en el Festival Kerouac en Vigo\, continúa el recorrido del book tour con la presentación del libro Viaje hacia la canción perfecta\, de Miguel Marcos\, quien presentará y firmará ejemplares y contará además con un showcase de Nueva Tragedia. \n  \nViernes 17 de octubre\, 21:00\nFestival Kerouac VIGO\nGalería Maraca\,\nDoutor Cadaval 12\,\n36201 Vigo\nPontevedra
URL:https://liburuak.org/evento/viaje-hacia-la-cancion-perfecta-booktour-miguel-marcos-festival-kerouac-vigo/
LOCATION:Festival Kerouac Vigo\, Galería Maraca\, Doutor Cadaval 12\, Vigo\, Spain
ATTACH;FMTTYPE=image/png:https://liburuak.org/wp-content/uploads/2025/09/liburuak-evento-viaje-hacia-cancion-perfecta.png
END:VEVENT
BEGIN:VEVENT
DTSTART;TZID=Europe/Madrid:20251018T180000
DTEND;TZID=Europe/Madrid:20251018T193000
DTSTAMP:20260425T224004
CREATED:20251016T081255Z
LAST-MODIFIED:20251016T081308Z
UID:4757-1760810400-1760815800@liburuak.org
SUMMARY:"VIAJE HACIA LA CANCIÓN PERFECTA" BOOKTOUR\, Miguel Marcos\, FNAC A CORUÑA
DESCRIPTION:El sábado 18 de octubre\, a las 18:00h\, en FNAC A Coruña\, se celebrará la presentación del libro Viaje hacia la canción perfecta de Miguel Marcos. El acto contará con una charla con Frans Banfield\, músico y compositor argentino\, y Félix Arias\, cantautor y miembro de formaciones como Deluxe y Lovely Luna. La jornada concluirá con un showcase de Nueva Tragedia. \n  \nSábado 18 de octubre\, 18:00\nFNAC A CORUÑA\nMercado Eusebio da Guarda\,\nPraza de Lugo\, s/n\,\n15004 A Coruña
URL:https://liburuak.org/evento/viaje-hacia-la-cancion-perfecta-booktour-miguel-marcos-fnac-a-coruna/
LOCATION:Fnac A Coruña\, Mercado Eusebio da Guarda\, Praza de Lugo\, s/n\, A Coruña\, Spain
ATTACH;FMTTYPE=image/png:https://liburuak.org/wp-content/uploads/2025/09/liburuak-evento-viaje-hacia-cancion-perfecta.png
END:VEVENT
BEGIN:VEVENT
DTSTART;VALUE=DATE:20251024
DTEND;VALUE=DATE:20251026
DTSTAMP:20260425T224004
CREATED:20250717T204254Z
LAST-MODIFIED:20251015T065935Z
UID:4278-1761264000-1761436799@liburuak.org
SUMMARY:Fiesta y Rebeldía Gaua\, IRUÑA y BILBAO
DESCRIPTION:Un libro convertido en fiesta. Eso es lo que está ocurriendo con Fiesta y rebeldía. Historia oral del rock radical vasco\, la crónica definitiva de un fenómeno musical\, político y social que marcó a toda una generación. Fiesta y Rebeldía es algo más que un libro: una experiencia cultural completa\, lectura y pogo\, historia y directo\, para una nueva generación que quiere saber qué pasó…\nLos días 24 y 25 de octubre\, Pamplona (Zentral) y Bilbao (Urban Hall Euskalduna) acogerán dos conciertos únicos que reunirán a algunas de las voces más potentes de la escena vasca actual en un anti tributo intergeneracional al Rock Radical Vasco. Anari\, Belako\, Gailu\, Joseba Irazoki eta lagunak\, Silitia y La Txama participarán en “Fiesta y Rebeldía Gaua” \n¡Consigue aquí tus entradas para los conciertos de Fiesta y Rebeldia Gaua!
URL:https://liburuak.org/evento/fiesta-y-rebeldia-gaua-iruna-bilbao/
END:VEVENT
BEGIN:VEVENT
DTSTART;TZID=Europe/Madrid:20251026T110000
DTEND;TZID=Europe/Madrid:20251026T120000
DTSTAMP:20260425T224004
CREATED:20251014T083830Z
LAST-MODIFIED:20251024T081844Z
UID:4727-1761476400-1761480000@liburuak.org
SUMMARY:«Fiesta y Rebeldía» Javier Jerry Corral\, BUNKER BARAKALDO
DESCRIPTION:El próximo domingo 25 de octubre en la feria Bunker de Barakaldo\, el autor Jerry Corral conversará sobre el éxito de su libro\, «Fiesta y rebeldía»\, una fascinante historia oral que documenta el auge y la influencia del Rock Radical Vasco. Tras el coloquio junto a Iker Bárbara\, responsable de Zarata (Mondo Sonoro)\, Jerry Corral firmará ejemplares de su libro. \n  \nDomingo 25 de octubre\, 11.00 h – 12:00\nHerriko Plaza\, Barakaldo\nVenta de libros: Munsterama \n 
URL:https://liburuak.org/evento/fiesta-y-rebeldia-javier-jerry-corral-bunker-barakaldo/
LOCATION:Herriko Plaza\, Herriko Plaza\, Barakaldo
END:VEVENT
BEGIN:VEVENT
DTSTART;VALUE=DATE:20251027
DTEND;VALUE=DATE:20251028
DTSTAMP:20260425T224004
CREATED:20251016T085324Z
LAST-MODIFIED:20251016T085324Z
UID:4780-1761523200-1761609599@liburuak.org
SUMMARY:"VIAJE HACIA LA CANCIÓN PERFECTA" BOOKTOUR\, Miguel Marcos\, LIBRERÍA MOLAR MADRID
DESCRIPTION:El viernes 27 de octubre\, en la Librería Molar (Madrid)\, Miguel Marcos presentará su libro Viaje hacia la canción perfecta. El evento contará con una charla con César Luquero\, crítico musical y periodista\, y Guille Galván\, compositor y miembro de Vetusta Morla\, abordando la música y el proceso creativo. \n  \nViernes 27 de octubre\nC. de la Ruda\, 19\,\nCentro\,\n28005 Madrid
URL:https://liburuak.org/evento/viaje-hacia-la-cancion-perfecta-booktour-miguel-marcos-libreria-molar-madrid/
LOCATION:Molar Discos & Libros\, Calle Ruda 19\, Madrid
ATTACH;FMTTYPE=image/png:https://liburuak.org/wp-content/uploads/2025/09/liburuak-evento-viaje-hacia-cancion-perfecta.png
END:VEVENT
BEGIN:VEVENT
DTSTART;TZID=Europe/Madrid:20251028T105500
DTEND;TZID=Europe/Madrid:20251028T114000
DTSTAMP:20260425T224004
CREATED:20251014T081117Z
LAST-MODIFIED:20251015T075042Z
UID:4723-1761648900-1761651600@liburuak.org
SUMMARY:"VIAJE HACIA LA CANCIÓN PERFECTA"\, Miguel Marcos\, BIME PRO BILBAO
DESCRIPTION:David Otero y Marwan\, dos de los cantautores más reconocidos de la escena española\, se unen a Miguel Marcos Fernández —músico\, productor y autor del recién publicado libro Viaje hacia la canción perfecta— para explorar los secretos de la composición. Será una conversación cercana y enriquecedora\, en la que se abordarán los retos\, emociones e inspiraciones que acompañan el proceso de escribir canciones. \n  \nMartes 28 de octubre\, 10.55 h – 11:40\nPalacio Euskalduna Bilbao\nSala Creación\nAvda. Abandoibarra\, 4\n48011 Bilbao
URL:https://liburuak.org/evento/viaje-hacia-la-cancion-perfecta-miguel-marcos-bime-pro-bilbao/
LOCATION:Palacio Euskalduna Bilbao\, Avda. Abandoibarra\, n° 4\, Bilbao\, 48011
END:VEVENT
BEGIN:VEVENT
DTSTART;TZID=Europe/Madrid:20251028T154500
DTEND;TZID=Europe/Madrid:20251028T164500
DTSTAMP:20260425T224004
CREATED:20251014T072835Z
LAST-MODIFIED:20251015T074806Z
UID:4718-1761666300-1761669900@liburuak.org
SUMMARY:"ANTINEUTRAL"\, Pepo Márquez\, BIME PRO BILBAO
DESCRIPTION:Pepo Márquez\, con la perspectiva crítica de su libro ANTINEUTRAL\, formará parte del panel «El boom que incomoda: ¿a costa de quién crece la música en vivo?» en BIME PRO junto al periodista Pablo Gil (El Mundo) y Silvia M. Ferri (OH\, SALVAJE / INDUSTRIAL COPERA). La industria musical en directo se dispara\, pero también lo hacen las preguntas sobre sus prácticas. \nMartes 28 de octubre\, 15.45 h – 16:45\nPalacio Euskalduna Bilbao\nAvda. Abandoibarra\, 4\n48011 Bilbao
URL:https://liburuak.org/evento/antineutral-pepo-marquez-bime-pro-bilbao/
LOCATION:Palacio Euskalduna Bilbao\, Avda. Abandoibarra\, n° 4\, Bilbao\, 48011
END:VEVENT
END:VCALENDAR