BEGIN:VCALENDAR
VERSION:2.0
PRODID:-//Liburuak - ECPv6.15.18//NONSGML v1.0//EN
CALSCALE:GREGORIAN
METHOD:PUBLISH
X-WR-CALNAME:Liburuak
X-ORIGINAL-URL:https://liburuak.org
X-WR-CALDESC:Eventos para Liburuak
REFRESH-INTERVAL;VALUE=DURATION:PT1H
X-Robots-Tag:noindex
X-PUBLISHED-TTL:PT1H
BEGIN:VTIMEZONE
TZID:Europe/Madrid
BEGIN:DAYLIGHT
TZOFFSETFROM:+0100
TZOFFSETTO:+0200
TZNAME:CEST
DTSTART:20240331T010000
END:DAYLIGHT
BEGIN:STANDARD
TZOFFSETFROM:+0200
TZOFFSETTO:+0100
TZNAME:CET
DTSTART:20241027T010000
END:STANDARD
BEGIN:DAYLIGHT
TZOFFSETFROM:+0100
TZOFFSETTO:+0200
TZNAME:CEST
DTSTART:20250330T010000
END:DAYLIGHT
BEGIN:STANDARD
TZOFFSETFROM:+0200
TZOFFSETTO:+0100
TZNAME:CET
DTSTART:20251026T010000
END:STANDARD
BEGIN:DAYLIGHT
TZOFFSETFROM:+0100
TZOFFSETTO:+0200
TZNAME:CEST
DTSTART:20260329T010000
END:DAYLIGHT
BEGIN:STANDARD
TZOFFSETFROM:+0200
TZOFFSETTO:+0100
TZNAME:CET
DTSTART:20261025T010000
END:STANDARD
END:VTIMEZONE
BEGIN:VEVENT
DTSTART;TZID=Europe/Madrid:20251007T193000
DTEND;TZID=Europe/Madrid:20251109T233000
DTSTAMP:20260425T212443
CREATED:20251007T081451Z
LAST-MODIFIED:20251015T071813Z
UID:4725-1759865400-1762731000@liburuak.org
SUMMARY:Exposición del libro "Disparos en la oscuridad"\, MADRID
DESCRIPTION:La exposición imprescindible para los amantes del punk y el rock. Descubre la obra de David Arnoff\, el documentalista que inmortalizó con su cámara la escena de Los Ángeles en losThe Cramps\, Ramones\, The Damned\, Buzzcocks\, Blondie o Nick Cave\, presentadas en gran formato. Las fotografías\, incluidas en su aclamado libro Disparos en la oscuridad están a la venta en una edición única y firmada por el autor.\nEntrada libre \nExposición «Disparos en la oscuridad»\nDe 18:00 a 3:00 (Lunes cerrado)\n12 Botellas\nCalle de Belén\, 7\, 28004 Madrid 
URL:https://liburuak.org/evento/exposicion-y-presentacion-del-libro-disparos-en-la-oscuridad-madrid/
LOCATION:12 Botellas\, Calle de Belén 7\, Madrid\, 28004
ATTACH;FMTTYPE=image/jpeg:https://liburuak.org/wp-content/uploads/2025/10/thumbnail_cartel_inauguracion-A4-OK-scaled.jpg
END:VEVENT
BEGIN:VEVENT
DTSTART;VALUE=DATE:20251107
DTEND;VALUE=DATE:20251108
DTSTAMP:20260425T212443
CREATED:20251016T082430Z
LAST-MODIFIED:20251016T082430Z
UID:4762-1762473600-1762559999@liburuak.org
SUMMARY:"VIAJE HACIA LA CANCIÓN PERFECTA" BOOKTOUR\, Miguel Marcos\, RADIO 3 MADRID
DESCRIPTION:El viernes 7 de noviembre\, Miguel Marcos presentará su libro Viaje hacia la canción perfecta en Hoy Empieza Todo (Radio 3)\, el programa de referencia de Radio 3 que combina música\, entrevistas y actualidad cultural. El acto incluirá un showcase de Nueva Tragedia. \n  \nViernes 7 de noviembre\nHoy Empieza Todo\nRadio 3
URL:https://liburuak.org/evento/viaje-hacia-la-cancion-perfecta-booktour-miguel-marcos-radio-3-madrid/
LOCATION:Hoy Empieza Todo\, Radio 3\, Madrid\, Spain
ATTACH;FMTTYPE=image/png:https://liburuak.org/wp-content/uploads/2025/09/liburuak-evento-viaje-hacia-cancion-perfecta.png
END:VEVENT
BEGIN:VEVENT
DTSTART;TZID=Europe/Madrid:20251108T180000
DTEND;TZID=Europe/Madrid:20251108T193000
DTSTAMP:20260425T212443
CREATED:20251016T082801Z
LAST-MODIFIED:20251016T083125Z
UID:4765-1762624800-1762630200@liburuak.org
SUMMARY:"VIAJE HACIA LA CANCIÓN PERFECTA" BOOKTOUR\, Miguel Marcos\, FNAC BARCELONA
DESCRIPTION:El sábado 8 de noviembre\, a las 18:00h\, en FNAC Ramblas (Barcelona)\, Miguel Marcos hará la presentación de su libro Viaje hacia la canción perfecta. El acto contará con una charla con Carlos Sadness y The New Raemon\, ambos referentes de la música pop y cantautoría española\, y se completará con un showcase de Nueva Tragedia. \n  \nSábado 8 de noviembre\, 18:00\nFNAC Ramblas Barcelona\nLa Rambla\, 131\,\nCiutat Vella\,\n08002 Barcelona
URL:https://liburuak.org/evento/viaje-hacia-la-cancion-perfecta-booktour-miguel-marcos-fnac-barcelona/
LOCATION:Fnac Ramblas Barcelona\, La Rambla\, 131\, Ciutat Vella\, Barcelona\, Spain
ATTACH;FMTTYPE=image/png:https://liburuak.org/wp-content/uploads/2025/09/liburuak-evento-viaje-hacia-cancion-perfecta.png
END:VEVENT
BEGIN:VEVENT
DTSTART;TZID=Europe/Madrid:20251124T150000
DTEND;TZID=Europe/Madrid:20251124T190000
DTSTAMP:20260425T212443
CREATED:20251125T072902Z
LAST-MODIFIED:20251125T072902Z
UID:4945-1763996400-1764010800@liburuak.org
SUMMARY:Presentación del libro “De pasión a profesión. Manual de Industria Musical"\, Medellín\, Colombia
DESCRIPTION:El próximo lunes 24 de noviembre en Medellín\, se presentará el Manual de la Industria Musical\, De pasión a profesión\, con la presencia del periodista musical Diego Londoño y Felipe Jaramillo director de Last Tour América y colaborador en la realización de la obra. \nUn programa didáctico completo y el primer manual en español que aborda con rigor y profundidad todas las áreas de la industria musical\, ofreciendo una visión transversal y actualizada del sector \nUn evento en colaboración con EL PAUER/ Comfama\, Clúster de Industrias Creativas de Cámara de Comercio\, Medellín Music Lab – Alcaldía de Medellín\, BIME\, Last Tour\, Editorial Océano y Proantioquia con la Mesa de la Industria de la Música. \n\n\n\nFecha: 24 noviembre\n\n\nHora: 15:00 – 17:00 (Zona horaria Colombia)
URL:https://liburuak.org/evento/presentacion-del-libro-de-pasion-a-profesion-manual-de-industria-musical-medellin-colombia/
LOCATION:Bodega Comfama\, Calle 34 #46-20\, Perpetuo Socorro\, Medellín\, Colombia
ATTACH;FMTTYPE=image/png:https://liburuak.org/wp-content/uploads/2025/09/liburuak-de-pasion-a-profesion.png
END:VEVENT
BEGIN:VEVENT
DTSTART;VALUE=DATE:20251128
DTEND;VALUE=DATE:20251129
DTSTAMP:20260425T212443
CREATED:20251016T083059Z
LAST-MODIFIED:20251016T090240Z
UID:4768-1764288000-1764374399@liburuak.org
SUMMARY:"VIAJE HACIA LA CANCIÓN PERFECTA" BOOKTOUR\, Miguel Marcos\, FNAC CALLAO MADRID
DESCRIPTION:El viernes 28 de noviembre en FNAC Callao (Madrid)\, Miguel Marcos presentará su libro Viaje hacia la canción perfecta. El evento incluirá una charla con artistas invitados y un showcase de Nueva Tragedia. \n  \nViernes 28 de noviembre\,\nFnac Callao Madrid\nC. de Preciados\, 28\, \nCentro\, \n28013 Madrid
URL:https://liburuak.org/evento/viaje-hacia-la-cancion-perfecta-booktour-miguel-marcos-fnac-callao-madrid/
LOCATION:Madrid FNAC\, Fnac\, C. de Preciados\, 28\, Centro\, 28013 Madrid\, Madrid\, 28013\, España
ATTACH;FMTTYPE=image/png:https://liburuak.org/wp-content/uploads/2025/09/liburuak-evento-viaje-hacia-cancion-perfecta.png
END:VEVENT
END:VCALENDAR