BEGIN:VCALENDAR
VERSION:2.0
PRODID:-//Liburuak - ECPv6.15.18//NONSGML v1.0//EN
CALSCALE:GREGORIAN
METHOD:PUBLISH
X-ORIGINAL-URL:https://liburuak.org
X-WR-CALDESC:Eventos para Liburuak
REFRESH-INTERVAL;VALUE=DURATION:PT1H
X-Robots-Tag:noindex
X-PUBLISHED-TTL:PT1H
BEGIN:VTIMEZONE
TZID:Europe/Madrid
BEGIN:DAYLIGHT
TZOFFSETFROM:+0100
TZOFFSETTO:+0200
TZNAME:CEST
DTSTART:20250330T010000
END:DAYLIGHT
BEGIN:STANDARD
TZOFFSETFROM:+0200
TZOFFSETTO:+0100
TZNAME:CET
DTSTART:20251026T010000
END:STANDARD
BEGIN:DAYLIGHT
TZOFFSETFROM:+0100
TZOFFSETTO:+0200
TZNAME:CEST
DTSTART:20260329T010000
END:DAYLIGHT
BEGIN:STANDARD
TZOFFSETFROM:+0200
TZOFFSETTO:+0100
TZNAME:CET
DTSTART:20261025T010000
END:STANDARD
BEGIN:DAYLIGHT
TZOFFSETFROM:+0100
TZOFFSETTO:+0200
TZNAME:CEST
DTSTART:20270328T010000
END:DAYLIGHT
BEGIN:STANDARD
TZOFFSETFROM:+0200
TZOFFSETTO:+0100
TZNAME:CET
DTSTART:20271031T010000
END:STANDARD
END:VTIMEZONE
BEGIN:VEVENT
DTSTART;TZID=Europe/Madrid:20260131T123000
DTEND;TZID=Europe/Madrid:20260131T133000
DTSTAMP:20260425T184214
CREATED:20260129T113619Z
LAST-MODIFIED:20260129T113633Z
UID:5398-1769862600-1769866200@liburuak.org
SUMMARY:PRESENTACIÓN Canción de amor de un día (CADUD)\, MADRID
DESCRIPTION:El próximo sábado 31 de enero en la nueva librería musical Perros de Lluvia de Madrid\, Javier Corcobado presentará su esperado libro\, Canción de amor de un día (CADUD ). Le acompañara en la charla el periodista Jesús Rodríguez Lenin. \nCADUD trasciende el formato tradicional para convertirse en una experiencia sensorial única. Esta edición limitada\, de la cual solo existen 500 ejemplares numerados\, narra un día en la vida del autor a través de la literatura y la música. El libro se acompaña de un pendrive que alberga un hito creativo: la primera canción en la historia con una duración de 24 horas. \nUn proyecto monumental que cuenta con la complicidad de artistas de la talla de Amaral\, Nacho Vegas\, Alaska y Andrés Calamaro\, entre otros.Entrada gratuita hasta completar limitado aforo. \n¡No te quedes sin tu ejemplar numerado y firmado por Corcobado! \nSábado 31 de enero\nLibrería Musical Perros de Lluvia\nSombrerería\, 1\nLavapies\n28012 Madrid
URL:https://liburuak.org/evento/presentacion-cancion-de-amor-de-un-dia-cadud/
LOCATION:Perros de Lluvia\, Sombrerería\, 1 · Lavapiés\, Madrid\, 28012
ATTACH;FMTTYPE=image/png:https://liburuak.org/wp-content/uploads/2026/01/liburuak-corcobado-cadud_Mesa-de-trabajo-1-copia-2.png
END:VEVENT
END:VCALENDAR